BEGIN:VCALENDAR
VERSION:2.0
PRODID:-//AU/UGA Medical Partnership - ECPv6.15.20//NONSGML v1.0//EN
CALSCALE:GREGORIAN
METHOD:PUBLISH
X-WR-CALNAME:AU/UGA Medical Partnership
X-ORIGINAL-URL:https://medicalpartnership.usg.edu
X-WR-CALDESC:Events for AU/UGA Medical Partnership
REFRESH-INTERVAL;VALUE=DURATION:PT1H
X-Robots-Tag:noindex
X-PUBLISHED-TTL:PT1H
BEGIN:VTIMEZONE
TZID:America/New_York
BEGIN:DAYLIGHT
TZOFFSETFROM:-0500
TZOFFSETTO:-0400
TZNAME:EDT
DTSTART:20250309T070000
END:DAYLIGHT
BEGIN:STANDARD
TZOFFSETFROM:-0400
TZOFFSETTO:-0500
TZNAME:EST
DTSTART:20251102T060000
END:STANDARD
BEGIN:DAYLIGHT
TZOFFSETFROM:-0500
TZOFFSETTO:-0400
TZNAME:EDT
DTSTART:20260308T070000
END:DAYLIGHT
BEGIN:STANDARD
TZOFFSETFROM:-0400
TZOFFSETTO:-0500
TZNAME:EST
DTSTART:20261101T060000
END:STANDARD
BEGIN:DAYLIGHT
TZOFFSETFROM:-0500
TZOFFSETTO:-0400
TZNAME:EDT
DTSTART:20270314T070000
END:DAYLIGHT
BEGIN:STANDARD
TZOFFSETFROM:-0400
TZOFFSETTO:-0500
TZNAME:EST
DTSTART:20271107T060000
END:STANDARD
END:VTIMEZONE
BEGIN:VEVENT
DTSTART;TZID=America/New_York:20260422T160000
DTEND;TZID=America/New_York:20260422T170000
DTSTAMP:20260422T112622
CREATED:20220803T144748Z
LAST-MODIFIED:20220803T144748Z
UID:4808-1776873600-1776877200@medicalpartnership.usg.edu
SUMMARY:Journal Club
DESCRIPTION:Journal Club for Medical Education Research & Scholarship
URL:https://medicalpartnership.usg.edu/event/journal-club/2026-04-22/
CATEGORIES:Faculty,Staff,Students
END:VEVENT
BEGIN:VEVENT
DTSTART;TZID=America/New_York:20260422T170000
DTEND;TZID=America/New_York:20260422T170000
DTSTAMP:20260422T112622
CREATED:20220803T144558Z
LAST-MODIFIED:20220803T144558Z
UID:4809-1776877200-1776877200@medicalpartnership.usg.edu
SUMMARY:Faculty & Staff Gathering
DESCRIPTION:Bi-weekly gathering locations will be announced via email.
URL:https://medicalpartnership.usg.edu/event/faculty-staff-gathering/2026-04-22/
CATEGORIES:Faculty,Staff
END:VEVENT
BEGIN:VEVENT
DTSTART;TZID=America/New_York:20260428T180000
DTEND;TZID=America/New_York:20260428T180000
DTSTAMP:20260422T112622
CREATED:20260421T194009Z
LAST-MODIFIED:20260421T194009Z
UID:6020-1777399200-1777399200@medicalpartnership.usg.edu
SUMMARY:Physical Medicine & Rehab Interest Group: I'm a Physiatrist\, Not a Psychiatrist!
DESCRIPTION:
URL:https://medicalpartnership.usg.edu/event/physical-medicine-rehab-interest-group-im-a-physiatrist-not-a-psychiatrist/
LOCATION:Russell Hall\, 1425 Prince Avenue\, Athens\, GA\, 30602\, United States
CATEGORIES:Student Organizations,Students
END:VEVENT
BEGIN:VEVENT
DTSTART;TZID=America/New_York:20260429T183000
DTEND;TZID=America/New_York:20260429T183000
DTSTAMP:20260422T112622
CREATED:20260421T194423Z
LAST-MODIFIED:20260421T194423Z
UID:6022-1777487400-1777487400@medicalpartnership.usg.edu
SUMMARY:OB/GYN Discussion Panel
DESCRIPTION:
URL:https://medicalpartnership.usg.edu/event/ob-gyn-discussion-panel/
CATEGORIES:Student Organizations,Students
END:VEVENT
END:VCALENDAR